Workbook

Sheet Consolidado PAES
A4: MATRIZ CONSOLIDADO FASE AUTOEVALUACIÓN 2024 - PAES
A6: DIRESA/GERESA/DIRIS/RED DE SALUD AREQUIPA CAYLLOMA
A8: Nº TOTAL EESS | B8: N° ORDEN | C8: DENOMINACIÓN DEL EESS | D8: CATEGORIA | E8: RED | F8: MICRORRED | G8: FECHA DE INICIO Y TERMINO DE AUTOEVALUACIÓN | H8: PUNTAJE OBTENIDO | I8: DOCUMENTOS SUSTENTO (indicar fecha de entrega)
I9: Criterio 1 | J9: Criterio 2 | K9: Criterio 3 | L9: Criterio 4
A10: 139 | B10: 1 | C10: CENTRO DE SALUD MIGUEL GRAU B | D10: I-3 | E10: AREQUIPA CAYLLOMA | F10: 15 DE AGOSTO | G10: 17-07-24-17-08-24 | I10: ='criterio 1'!G10 -> RJ N°018-2024 (01-02-2024) | J10: ='criterio 2'!H10 -> RJ.Nº 021-2024(27-02-2024) | K10: ='criterio 3'!I10 -> INF. N° 184-2024 (13-06-24) | L10: ='criterio 4'!L10
B11: 2 | C11: PUESTO DE SALUD MIGUEL GRAU MODULO C-D | D11: I-2 | E11: AREQUIPA CAYLLOMA | F11: 15 DE AGOSTO | G11: 17-07-24-17-08-24 | I11: ='criterio 1'!G11 -> RJ N°018-2024 (01-02-2024) | J11: ='criterio 2'!H11 -> RJ.Nº 021-2024(27-02-2024) | K11: ='criterio 3'!I11 -> INF. N° 184-2024 (13-06-24) | L11: ='criterio 4'!L11
B12: 3 | C12: CENTRO DE SALUD 15 DE AGOSTO | D12: I-3 | E12: AREQUIPA CAYLLOMA | F12: 15 DE AGOSTO | G12: 17-07-24-17-08-24 | I12: ='criterio 1'!G12 -> RJ N°018-2024 (01-02-2024) | J12: ='criterio 2'!H12 -> RJ.Nº 021-2024(27-02-2024) | K12: ='criterio 3'!I12 -> INF. N° 184-2024 (13-06-24) | L12: ='criterio 4'!L12
B13: 4 | C13: PUESTO DE SALUD MIGUEL GRAU MODULO A | D13: I-2 | E13: AREQUIPA CAYLLOMA | F13: 15 DE AGOSTO | G13: 17-07-24-17-08-24 | I13: ='criterio 1'!G13 -> RJ N°018-2024 (01-02-2024) | J13: ='criterio 2'!H13 -> RJ.Nº 021-2024(27-02-2024) | K13: ='criterio 3'!I13 -> INF. N° 184-2024 (13-06-24) | L13: ='criterio 4'!L13
B14: 5 | C14: INDEPENDENCIA | D14: I-3 | E14: AREQUIPA CAYLLOMA | F14: ALTO SELVA ALEGRE | G14: 14-07-27 - 14-08-24 | I14: ='criterio 1'!G14 -> RJ.Nº 006-2024 (23-02-2024) | J14: ='criterio 2'!H14 -> RJ.Nº 016-2024(27-05-2024) | K14: ='criterio 3'!I14 -> INFORME N° 234-2024 (02-07-24) | L14: ='criterio 4'!L14
B15: 6 | C15: CENTRO DE SALUD ALTO SELVA ALEGRE | D15: I-3 | E15: AREQUIPA CAYLLOMA | F15: ALTO SELVA ALEGRE | G15: 14-07-27 - 14-08-24 | I15: ='criterio 1'!G15 -> RJ.Nº 006-2024 (23-02-2024) | J15: ='criterio 2'!H15 -> RJ.Nº 016-2024(27-05-2024) | K15: ='criterio 3'!I15 -> INFORME N° 234-2024 (02-07-24) | L15: ='criterio 4'!L15
B16: 7 | C16: LEONES DEL MISTI | D16: I-2 | E16: AREQUIPA CAYLLOMA | F16: ALTO SELVA ALEGRE | G16: 14-07-27 - 14-08-24 | I16: ='criterio 1'!G16 -> RJ.Nº 006-2024 (23-02-2024) | J16: ='criterio 2'!H16 -> RJ.Nº 016-2024(27-05-2024) | K16: ='criterio 3'!I16 -> INFORME N° 234-2024 (02-07-24) | L16: ='criterio 4'!L16
B17: 8 | C17: HEROES DEL CENEPA | D17: I-2 | E17: AREQUIPA CAYLLOMA | F17: ALTO SELVA ALEGRE | G17: 14-07-27 - 14-08-24 | I17: ='criterio 1'!G17 -> RJ.Nº 006-2024 (23-02-2024) | J17: ='criterio 2'!H17 -> RJ.Nº 016-2024(27-05-2024) | K17: ='criterio 3'!I17 -> INFORME N° 234-2024 (02-07-24) | L17: ='criterio 4'!L17
B18: 9 | C18: SAN JUAN BAUTISTA | D18: I-2 | E18: AREQUIPA CAYLLOMA | F18: ALTO SELVA ALEGRE | G18: 14-07-27 - 14-08-24 | I18: ='criterio 1'!G18 -> RJ.Nº 006-2024 (23-02-2024) | J18: ='criterio 2'!H18 -> RJ.Nº 016-2024(27-05-2024) | K18: ='criterio 3'!I18 -> INFORME N° 234-2024 (02-07-24) | L18: ='criterio 4'!L18
B19: 10 | C19: APURIMAC | D19: I-3 | E19: AREQUIPA CAYLLOMA | F19: ALTO SELVA ALEGRE | G19: 14-07-27 - 14-08-24 | I19: ='criterio 1'!G19 -> RJ.Nº 006-2024 (23-02-2024) | J19: ='criterio 2'!H19 -> RJ.Nº 016-2024(27-05-2024) | K19: ='criterio 3'!I19 -> INFORME N° 234-2024 (02-07-24) | L19: ='criterio 4'!L19
B20: 11 | C20: CENTRO DE SALUD AMPLIACIÓN PAUCARPATA | D20: I-4 | E20: AREQUIPA CAYLLOMA | F20: AMPLIACION PAUCARPATA | G20: 02-09-27 - 02-10-24 | I20: ='criterio 1'!G20 -> RJ.Nº 026-2024 (13-04-2024) | J20: ='criterio 2'!H20 -> RJ.Nº 039-2024(09-07-2024) | K20: ='criterio 3'!I20 -> INFORME N°263 (17-09-24) | L20: ='criterio 4'!L20
B21: 12 | C21: CENTRO DE SALUD NUEVA ALBORADA | D21: I-3 | E21: AREQUIPA CAYLLOMA | F21: AMPLIACION PAUCARPATA | G21: 02-09-27 - 02-10-24 | I21: ='criterio 1'!G21 -> RJ.Nº 026-2024 (13-04-2024) | J21: ='criterio 2'!H21 -> RJ.Nº 039-2024(09-07-2024) | K21: ='criterio 3'!I21 -> INFORME N°263 (17-09-24) | L21: ='criterio 4'!L21
B22: 13 | C22: CENTRO DE SALUD CAMPO MARTE | D22: I-3 | E22: AREQUIPA CAYLLOMA | F22: AMPLIACION PAUCARPATA | G22: 02-09-27 - 02-10-24 | I22: ='criterio 1'!G22 -> RJ.Nº 026-2024 (13-04-2024) | J22: ='criterio 2'!H22 -> RJ.Nº 039-2024(09-07-2024) | K22: ='criterio 3'!I22 -> INFORME N°263 (17-09-24) | L22: ='criterio 4'!L22
... B148: 139 | C148: PUESTO DE SALUD PAMPA DE CAMARONES | D148: I-2 | E148: AREQUIPA CAYLLOMA | F148: YANAHUARA | G148: 01-07-24- 31-08-24 | I148: ='criterio 1'!G148 -> RJ. Nº 0013-2023(26-12-2023) | J148: ='criterio 2'!H148 -> RJ.Nº 015-2023(28-12-2023) | K148: ='criterio 3'!I148 -> INF. N° 170-2024 (14-06-24) | L148: ='criterio 4'!L148

Sheet criterio 1
A4: MATRIZ CONSOLIDADO FASE AUTOEVALUACIÓN 2024 - PAES
A5: CUMPLIMIENTO DE CRITERIO 1
A6: DIRESA/GERESA/DIRIS/RED DE SALUD AREQUIPA CAYLLOMA
A8: Nº TOTAL EESS | B8: N° ORDEN | C8: DENOMINACIÓN DEL EESS | D8: CATEGORIA | E8: RED | F8: MICRORRED | G8: DOCUMENTOS SUSTENTO (indicar fecha de entrega)*
G9: Criterio 1
A10: 139 | B10: 1 | C10: CENTRO DE SALUD MIGUEL GRAU B | D10: I-3 | E10: AREQUIPA CAYLLOMA | F10: 15 DE AGOSTO | G10: RJ N°018-2024 (01-02-2024)
B11: 2 | C11: PUESTO DE SALUD MIGUEL GRAU MODULO C-D | D11: I-2 | E11: AREQUIPA CAYLLOMA | F11: 15 DE AGOSTO | G11: RJ N°018-2024 (01-02-2024)
B12: 3 | C12: CENTRO DE SALUD 15 DE AGOSTO | D12: I-3 | E12: AREQUIPA CAYLLOMA | F12: 15 DE AGOSTO | G12: RJ N°018-2024 (01-02-2024)
B13: 4 | C13: PUESTO DE SALUD MIGUEL GRAU MODULO A | D13: I-2 | E13: AREQUIPA CAYLLOMA | F13: 15 DE AGOSTO | G13: RJ N°018-2024 (01-02-2024)
B14: 5 | C14: INDEPENDENCIA | D14: I-3 | E14: AREQUIPA CAYLLOMA | F14: ALTO SELVA ALEGRE | G14: RJ.Nº 006-2024 (23-02-2024)
B15: 6 | C15: CENTRO DE SALUD ALTO SELVA ALEGRE | D15: I-3 | E15: AREQUIPA CAYLLOMA | F15: ALTO SELVA ALEGRE | G15: RJ.Nº 006-2024 (23-02-2024)
B16: 7 | C16: LEONES DEL MISTI | D16: I-2 | E16: AREQUIPA CAYLLOMA | F16: ALTO SELVA ALEGRE | G16: RJ.Nº 006-2024 (23-02-2024)
B17: 8 | C17: HEROES DEL CENEPA | D17: I-2 | E17: AREQUIPA CAYLLOMA | F17: ALTO SELVA ALEGRE | G17: RJ.Nº 006-2024 (23-02-2024)
B18: 9 | C18: SAN JUAN BAUTISTA | D18: I-2 | E18: AREQUIPA CAYLLOMA | F18: ALTO SELVA ALEGRE | G18: RJ.Nº 006-2024 (23-02-2024)
B19: 10 | C19: APURIMAC | D19: I-3 | E19: AREQUIPA CAYLLOMA | F19: ALTO SELVA ALEGRE | G19: RJ.Nº 006-2024 (23-02-2024)
B20: 11 | C20: CENTRO DE SALUD AMPLIACIÓN PAUCARPATA | D20: I-4 | E20: AREQUIPA CAYLLOMA | F20: AMPLIACION PAUCARPATA | G20: RJ.Nº 026-2024 (13-04-2024)
B21: 12 | C21: CENTRO DE SALUD NUEVA ALBORADA | D21: I-3 | E21: AREQUIPA CAYLLOMA | F21: AMPLIACION PAUCARPATA | G21: RJ.Nº 026-2024 (13-04-2024)
B22: 13 | C22: CENTRO DE SALUD CAMPO MARTE | D22: I-3 | E22: AREQUIPA CAYLLOMA | F22: AMPLIACION PAUCARPATA | G22: RJ.Nº 026-2024 (13-04-2024)
... B148: 139 | C148: PUESTO DE SALUD PAMPA DE CAMARONES | D148: I-2 | E148: AREQUIPA CAYLLOMA | F148: YANAHUARA | G148: RJ. Nº 0013-2023(26-12-2023)
A151: *N° RDs de conformación de equipo de acreditación y de equipo de evaluadores internos de EESS de primer nivel de atención.
A152: Fecha de aprobación de las RD.
A153: Links de publicación en web
A154: https://redperifericaaqp.gob.pe/?page_id=289
A155: *En la matriz que remite DIRESA/GERESA al MINSA indicar número de documento por el cual la Red de salud remitió información a DIRESA
A156: OFICIO Nro 951-2024 GRA/GRS/GR-RSAC-D-OPPDO-J-SGC.
A157: fecha de envío.
A158: 14 DE MAYO 2024

Sheet criterio 2
A4: MATRIZ CONSOLIDADO FASE AUTOEVALUACIÓN 2024 - PAES
A5: CUMPLIMIENTO DE CRITERIO 2
A6: DIRESA/GERESA/DIRIS/RED DE SALUD AREQUIPA CAYLLOMA
A8: Nº TOTAL EESS | B8: N° ORDEN | C8: DENOMINACIÓN DEL EESS | D8: CATEGORIA | E8: RED | F8: MICRORRED | G8: DOCUMENTOS SUSTENTO (indicar fecha de entrega)*
G9: Criterio 1 | H9: Criterio 2
A10: 139 | B10: 1 | C10: CENTRO DE SALUD MIGUEL GRAU B | D10: I-3 | E10: AREQUIPA CAYLLOMA | F10: 15 DE AGOSTO | G10: RJ N°018-2024 (01-02-2024) | H10: RJ.Nº 021-2024(27-02-2024)
B11: 2 | C11: PUESTO DE SALUD MIGUEL GRAU MODULO C-D | D11: I-2 | E11: AREQUIPA CAYLLOMA | F11: 15 DE AGOSTO | G11: RJ N°018-2024 (01-02-2024) | H11: RJ.Nº 021-2024(27-02-2024)
B12: 3 | C12: CENTRO DE SALUD 15 DE AGOSTO | D12: I-3 | E12: AREQUIPA CAYLLOMA | F12: 15 DE AGOSTO | G12: RJ N°018-2024 (01-02-2024) | H12: RJ.Nº 021-2024(27-02-2024)
B13: 4 | C13: PUESTO DE SALUD MIGUEL GRAU MODULO A | D13: I-2 | E13: AREQUIPA CAYLLOMA | F13: 15 DE AGOSTO | G13: RJ N°018-2024 (01-02-2024) | H13: RJ.Nº 021-2024(27-02-2024)
B14: 5 | C14: INDEPENDENCIA | D14: I-3 | E14: AREQUIPA CAYLLOMA | F14: ALTO SELVA ALEGRE | G14: RJ.Nº 006-2024 (23-02-2024) | H14: RJ.Nº 016-2024(27-05-2024)
B15: 6 | C15: CENTRO DE SALUD ALTO SELVA ALEGRE | D15: I-3 | E15: AREQUIPA CAYLLOMA | F15: ALTO SELVA ALEGRE | G15: RJ.Nº 006-2024 (23-02-2024) | H15: RJ.Nº 016-2024(27-05-2024)
B16: 7 | C16: LEONES DEL MISTI | D16: I-2 | E16: AREQUIPA CAYLLOMA | F16: ALTO SELVA ALEGRE | G16: RJ.Nº 006-2024 (23-02-2024) | H16: RJ.Nº 016-2024(27-05-2024)
B17: 8 | C17: HEROES DEL CENEPA | D17: I-2 | E17: AREQUIPA CAYLLOMA | F17: ALTO SELVA ALEGRE | G17: RJ.Nº 006-2024 (23-02-2024) | H17: RJ.Nº 016-2024(27-05-2024)
B18: 9 | C18: SAN JUAN BAUTISTA | D18: I-2 | E18: AREQUIPA CAYLLOMA | F18: ALTO SELVA ALEGRE | G18: RJ.Nº 006-2024 (23-02-2024) | H18: RJ.Nº 016-2024(27-05-2024)
B19: 10 | C19: APURIMAC | D19: I-3 | E19: AREQUIPA CAYLLOMA | F19: ALTO SELVA ALEGRE | G19: RJ.Nº 006-2024 (23-02-2024) | H19: RJ.Nº 016-2024(27-05-2024)
B20: 11 | C20: CENTRO DE SALUD AMPLIACIÓN PAUCARPATA | D20: I-4 | E20: AREQUIPA CAYLLOMA | F20: AMPLIACION PAUCARPATA | G20: RJ.Nº 026-2024 (13-04-2024) | H20: RJ.Nº 039-2024(09-07-2024)
B21: 12 | C21: CENTRO DE SALUD NUEVA ALBORADA | D21: I-3 | E21: AREQUIPA CAYLLOMA | F21: AMPLIACION PAUCARPATA | G21: RJ.Nº 026-2024 (13-04-2024) | H21: RJ.Nº 039-2024(09-07-2024)
B22: 13 | C22: CENTRO DE SALUD CAMPO MARTE | D22: I-3 | E22: AREQUIPA CAYLLOMA | F22: AMPLIACION PAUCARPATA | G22: RJ.Nº 026-2024 (13-04-2024) | H22: RJ.Nº 039-2024(09-07-2024)
... B148: 139 | C148: PUESTO DE SALUD PAMPA DE CAMARONES | D148: I-2 | E148: AREQUIPA CAYLLOMA | F148: YANAHUARA | G148: RJ. Nº 0013-2023(26-12-2023) | H148: RJ.Nº 015-2023(28-12-2023)
A151: *N° RDs de conformación de equipo de acreditación y de equipo de evaluadores internos de EESS de primer nivel de atención.
A152: Fecha de aprobación de las RD.
A153: Links de publicación en web
A154: https://redperifericaaqp.gob.pe/?page_id=289
A155: *En la matriz que remite DIRESA/GERESA al MINSA indicar número de documento por el cual la Red de salud remitió información a DIRESA
A156: OFICIO 1525 -2024 GRA/GRS/GR-RSAC-D-OPPDO-J-SGC.
A157: fecha de envío. 12-07-2024

Sheet criterio 3
A4: MATRIZ CONSOLIDADO FASE AUTOEVALUACIÓN 2024 - PAES
A5: CUMPLIMIENTO DE CRITERIO 3
A6: DIRESA/GERESA/DIRIS/RED :RED DE SALUD AREQUIPA CAYLLOMA
A8: Nº TOTAL EESS | B8: N° ORDEN | C8: DENOMINACIÓN DEL EESS | D8: CATEGORIA | E8: RED | F8: MICRORRED | G8: DOCUMENTOS SUSTENTO (indicar fecha de entrega)*
G9: Criterio 1 | H9: Criterio 2 | I9: Criterio 3
A10: 139 | B10: 1 | C10: CENTRO DE SALUD MIGUEL GRAU B | D10: I-3 | E10: AREQUIPA CAYLLOMA | F10: 15 DE AGOSTO | G10: RJ N°018-2024 (01-02-2024) | H10: RJ.Nº 021-2024(27-02-2024) | I10: INF. N° 184-2024 (13-06-24)
B11: 2 | C11: PUESTO DE SALUD MIGUEL GRAU MODULO C-D | D11: I-2 | E11: AREQUIPA CAYLLOMA | F11: 15 DE AGOSTO | G11: RJ N°018-2024 (01-02-2024) | H11: RJ.Nº 021-2024(27-02-2024) | I11: INF. N° 184-2024 (13-06-24)
B12: 3 | C12: CENTRO DE SALUD 15 DE AGOSTO | D12: I-3 | E12: AREQUIPA CAYLLOMA | F12: 15 DE AGOSTO | G12: RJ N°018-2024 (01-02-2024) | H12: RJ.Nº 021-2024(27-02-2024) | I12: INF. N° 184-2024 (13-06-24)
B13: 4 | C13: PUESTO DE SALUD MIGUEL GRAU MODULO A | D13: I-2 | E13: AREQUIPA CAYLLOMA | F13: 15 DE AGOSTO | G13: RJ N°018-2024 (01-02-2024) | H13: RJ.Nº 021-2024(27-02-2024) | I13: INF. N° 184-2024 (13-06-24)
B14: 5 | C14: INDEPENDENCIA | D14: I-3 | E14: AREQUIPA CAYLLOMA | F14: ALTO SELVA ALEGRE | G14: RJ.Nº 006-2024 (23-02-2024) | H14: RJ.Nº 016-2024(27-05-2024) | I14: INFORME N° 234-2024 (02-07-24)
B15: 6 | C15: CENTRO DE SALUD ALTO SELVA ALEGRE | D15: I-3 | E15: AREQUIPA CAYLLOMA | F15: ALTO SELVA ALEGRE | G15: RJ.Nº 006-2024 (23-02-2024) | H15: RJ.Nº 016-2024(27-05-2024) | I15: INFORME N° 234-2024 (02-07-24)
B16: 7 | C16: LEONES DEL MISTI | D16: I-2 | E16: AREQUIPA CAYLLOMA | F16: ALTO SELVA ALEGRE | G16: RJ.Nº 006-2024 (23-02-2024) | H16: RJ.Nº 016-2024(27-05-2024) | I16: INFORME N° 234-2024 (02-07-24)
B17: 8 | C17: HEROES DEL CENEPA | D17: I-2 | E17: AREQUIPA CAYLLOMA | F17: ALTO SELVA ALEGRE | G17: RJ.Nº 006-2024 (23-02-2024) | H17: RJ.Nº 016-2024(27-05-2024) | I17: INFORME N° 234-2024 (02-07-24)
B18: 9 | C18: SAN JUAN BAUTISTA | D18: I-2 | E18: AREQUIPA CAYLLOMA | F18: ALTO SELVA ALEGRE | G18: RJ.Nº 006-2024 (23-02-2024) | H18: RJ.Nº 016-2024(27-05-2024) | I18: INFORME N° 234-2024 (02-07-24)
B19: 10 | C19: APURIMAC | D19: I-3 | E19: AREQUIPA CAYLLOMA | F19: ALTO SELVA ALEGRE | G19: RJ.Nº 006-2024 (23-02-2024) | H19: RJ.Nº 016-2024(27-05-2024) | I19: INFORME N° 234-2024 (02-07-24)
B20: 11 | C20: CENTRO DE SALUD AMPLIACIÓN PAUCARPATA | D20: I-4 | E20: AREQUIPA CAYLLOMA | F20: AMPLIACION PAUCARPATA | G20: RJ.Nº 026-2024 (13-04-2024) | H20: RJ.Nº 039-2024(09-07-2024) | I20: INFORME N°263 (17-09-24)
B21: 12 | C21: CENTRO DE SALUD NUEVA ALBORADA | D21: I-3 | E21: AREQUIPA CAYLLOMA | F21: AMPLIACION PAUCARPATA | G21: RJ.Nº 026-2024 (13-04-2024) | H21: RJ.Nº 039-2024(09-07-2024) | I21: INFORME N°263 (17-09-24)
B22: 13 | C22: CENTRO DE SALUD CAMPO MARTE | D22: I-3 | E22: AREQUIPA CAYLLOMA | F22: AMPLIACION PAUCARPATA | G22: RJ.Nº 026-2024 (13-04-2024) | H22: RJ.Nº 039-2024(09-07-2024) | I22: INFORME N°263 (17-09-24)
... B148: 139 | C148: PUESTO DE SALUD PAMPA DE CAMARONES | D148: I-2 | E148: AREQUIPA CAYLLOMA | F148: YANAHUARA | G148: RJ. Nº 0013-2023(26-12-2023) | H148: RJ.Nº 015-2023(28-12-2023) | I148: INF. N° 170-2024 (14-06-24)
A149: Fecha COMUNICACIÓN DE INICIO DEL PROCESO DE AUTOEVALUACION
A150: Links de publicación en web
A151: https://redperifericaaqp.gob.pe/?page_id=289
A152: *En la matriz que remite DIRESA/GERESA al MINSA indicar número de documento por el cual la Red de salud remitió información a DIRESA
A153: OFICIO Nro 2033 -2024 GRA/GRS/GR-RSAC-D-OPPDO-J-SGC.
A154: fecha de envío. | C154: 45548
A199: *N° de Oficio de comunicación de inicio de Autoevaluación 2023 de EESS de primer nivel de atención.
A200: Oficio debe incluir la fecha de inicio de la autoevaluación (de preferencia fecha de inicio y término)
A201: *En la matriz que remite DIRESA/GERESA al MINSA indicar número de documento por el cual la Red de salud remitió información a DIRESA y fecha de envío.

Sheet criterio 4
A4: MATRIZ CONSOLIDADO FASE AUTOEVALUACIÓN 2024 - PAES
A5: CUMPLIMIENTO DE CRITERIO Nº 4
A6: DIRESA/GERESA/DIRIS/RED _AREQUIPA / RED DE SALUD AREQUIPA CAYLLOMA
A8: Nº TOTAL EESS | B8: N° ORDEN | C8: DENOMINACIÓN DEL EESS | D8: CATEGORIA | E8: RED | F8: MICRORRED | G8: FECHA DE INICIO Y TERMINO DE AUTOEVALUACIÓN | H8: PUNTAJE OBTENIDO | I8: DOCUMENTOS SUSTENTO (indicar fecha de entrega) | M8: SISGEDO
I9: Criterio 1 | J9: Criterio 2 | K9: Criterio 3 | L9: Criterio 4
A10: 139 | B10: 1 | C10: CENTRO DE SALUD MIGUEL GRAU B | D10: I-3 | E10: AREQUIPA CAYLLOMA | F10: 15 DE AGOSTO
B11: 2 | C11: PUESTO DE SALUD MIGUEL GRAU MODULO C-D | D11: I-2 | E11: AREQUIPA CAYLLOMA | F11: 15 DE AGOSTO
B12: 3 | C12: CENTRO DE SALUD 15 DE AGOSTO | D12: I-3 | E12: AREQUIPA CAYLLOMA | F12: 15 DE AGOSTO
B13: 4 | C13: PUESTO DE SALUD MIGUEL GRAU MODULO A | D13: I-2 | E13: AREQUIPA CAYLLOMA | F13: 15 DE AGOSTO
B14: 5 | C14: INDEPENDENCIA | D14: I-3 | E14: AREQUIPA CAYLLOMA | F14: ALTO SELVA ALEGRE
B15: 6 | C15: CENTRO DE SALUD ALTO SELVA ALEGRE | D15: I-3 | E15: AREQUIPA CAYLLOMA | F15: ALTO SELVA ALEGRE
B16: 7 | C16: LEONES DEL MISTI | D16: I-2 | E16: AREQUIPA CAYLLOMA | F16: ALTO SELVA ALEGRE
B17: 8 | C17: HEROES DEL CENEPA | D17: I-2 | E17: AREQUIPA CAYLLOMA | F17: ALTO SELVA ALEGRE
B18: 9 | C18: SAN JUAN BAUTISTA | D18: I-2 | E18: AREQUIPA CAYLLOMA | F18: ALTO SELVA ALEGRE
B19: 10 | C19: APURIMAC | D19: I-3 | E19: AREQUIPA CAYLLOMA | F19: ALTO SELVA ALEGRE
B20: 11 | C20: CENTRO DE SALUD AMPLIACIÓN PAUCARPATA | D20: I-4 | E20: AREQUIPA CAYLLOMA | F20: AMPLIACION PAUCARPATA
B21: 12 | C21: CENTRO DE SALUD NUEVA ALBORADA | D21: I-3 | E21: AREQUIPA CAYLLOMA | F21: AMPLIACION PAUCARPATA
B22: 13 | C22: CENTRO DE SALUD CAMPO MARTE | D22: I-3 | E22: AREQUIPA CAYLLOMA | F22: AMPLIACION PAUCARPATA
... B148: 139 | C148: PUESTO DE SALUD PAMPA DE CAMARONES | D148: I-2 | E148: AREQUIPA CAYLLOMA | F148: YANAHUARA
A149: Fecha COMUNICACIÓN DE INICIO DEL PROCESO DE AUTOEVALUACION
A150: Links de publicación en web
A151: https://redperifericaaqp.gob.pe/?page_id=289
A152: *En la matriz que remite DIRESA/GERESA al MINSA indicar número de documento por el cual la Red de salud remitió información a DIRESA
A153: OFICIO Nro -2024 GRA/GRS/GR-RSAC-D-OPPDO-J-SGC.
A155: fecha de envío.
